BEGIN:VCALENDAR
METHOD:PUBLISH
VERSION:2.0
PRODID:-//Board & Official Visit//Calendar//EN

BEGIN:VEVENT
SUMMARY:Lake Spivey/Clayton County | Board & Official Visit
DESCRIPTION:
X-ALT-DESC:
UID:Event5130
DTSTART:20201007T113000Z
DTEND:20201007T133000Z
DTSTAMP:20200831T195803Z
LAST-MODIFIED:20200831T195803Z
END:VEVENT

END:VCALENDAR